BEGIN:VCALENDAR
VERSION:2.0
PRODID:-//eventon.com NONSGML v1.0//EN
CALSCALE:GREGORIAN
METHOD:PUBLISH
BEGIN:VEVENT
UID:69e7706c8d3fc
DTSTAMP:20260421T124116Z
DTSTART:20200228T183000Z
DTEND:20200228T193000Z
LOCATION:Merlinita27 &quot;Rincón de los Sentidos&quot; Burjasot - Valencia
SUMMARY:Tzolkin Maya
DESCRIPTION:Entrada Gratuita VIERNES 28 febrero 2020 Charla sobre Tzolkin M
 aya  De: 18:30h a 19:30h &nbsp; Cuando Nacemos traemos una energía person
 al y particular. Cargada de dones y talentos. A traves del Tzolkin Maya pod
 emos descifrarla y crear así tu propia Carta Natal. &nbsp; ¿Te guataría 
 saber más sobre Tzolkin Maya?[..]\nhttps://www.merlinita27.com/events/char
 la-tzolkin-maya-copy/
URL:https://www.merlinita27.com/events/charla-tzolkin-maya-copy/
END:VEVENT
END:VCALENDAR